BEGIN:VCALENDAR
VERSION:2.0
PRODID:-//Tukios.com/
BEGIN:VEVENT
UID:4529afac-6627-4efc-a3a5-1f1590ffa1d7@obituaries.lmgfuneralhomeeast.com
DTSTAMP:20260422T010805Z
DTSTART:20260605T160000Z
DTEND:20260605T170000Z
SUMMARY:Graveside Service
DESCRIPTION:
URL:https://obituaries.lmgfuneralhomeeast.com/obituaries/julie-hardin
LOCATION:Louisville Memorial Gardens East 11601 Ballardsville Rd  
	Louisville KY 40241
GEO:38.31862;-85.530919
END:VEVENT
END:VCALENDAR